{"text_format":"1","workbook":"xlsx","n_sheets":5,"sheets":["作成に関する注意事項","使用申請書","使用許可書","計算シート","受付印"],"not_rendered":{"charts":0,"images":3,"macros":1,"external_links":0,"defined_names":3,"comments":0,"pivot_tables":0},"unopened":[],"bounds":{"document_bytes":16777216,"sheet_cells":100000,"rows_first":2000,"rows_last":500,"rows_between":2000,"halvings":0,"cell_chars":16384,"cell_head_chars":4096},"cells_cut":0,"cells_raw":0,"read":"whole","date_system":"1900"}

{"sheet":"作成に関する注意事項","index":0,"n_rows":26,"n_cols":3,"rows_kept":26,"cut":false,"hidden":false,"merged":[]}
[]
[null,"【金沢プール使用申請書作成に関する注意事項】"]
[]
[null,1,"マクロを有効にしてご使用ください。"]
[null,2,"黄色箇所に必要事項を入力してください。該当しない箇所は入力する必要はありません。"]
[null,null,"手書きをする場合はそのまま印刷しご利用ください。"]
[null,3,"申請書データにつきましては1申請あたり1つのデータファイルで作成してください。"]
[null,4,"利用する日が複数日ある場合はエクセルデータを複製してご使用ください。（シートのコピー不可）"]
[null,5,"保存する場合は申請書の右側にあるボダンを押してください。施設が指定する形式名で保存できます。"]
[null,null,"ご自身で保存される場合は下記のように入力して保存してください。"]
[]
[null,null,"【入力例】"]
[null,null,"利用団体：金沢プール"]
[null,null,"利用日：2019年7月10日"]
[]
[null,null,"ファイル名：金沢プール_20190710"]
[]
[]
[null,6,"メールで申請する場合は上記のようなファイル名で送付ください。"]
[null,7,"利用時間計につきまいしては1時間単位となります。"]
[null,null,"（例）利用時間13：00～14：30の場合は3時間となります。"]
[null,8,"お問合せ先・提出先"]
[null,null,"金沢プール"]
[null,null,"TEL：076-251-3535"]
[null,null,"FAX：076-251-3536"]
[null,null,"メール：info@kanazawa-pool.jp"]

{"sheet":"使用申請書","index":1,"n_rows":52,"n_cols":37,"rows_kept":52,"cut":false,"hidden":false,"merged":[[19,19,19,22],[11,24,12,28],[48,19,50,20],[48,21,50,22],[16,19,18,22],[20,19,23,22],[30,19,30,22],[29,19,29,22],[34,19,34,22],[42,21,42,22],[44,19,44,20],[45,20,47,22],[36,20,36,22],[37,20,37,22],[43,21,43,22],[40,19,41,20],[40,21,41,22],[38,21,38,22],[16,14,17,15],[18,14,19,15],[20,14,21,15],[22,14,23,15],[16,16,17,18],[18,16,19,18],[20,3,21,4],[20,2,21,2],[20,16,21,18],[22,16,23,18],[44,14,44,15],[45,14,45,15],[46,14,46,15],[38,16,38,18],[36,3,36,4],[37,3,37,4],[28,1,28,4],[29,1,29,4],[34,1,34,4],[35,1,35,4],[30,1,30,4],[31,1,31,4],[32,1,32,4],[28,14,28,15],[28,16,28,18],[34,16,34,18],[30,16,30,18],[31,16,31,18],[43,1,47,1],[47,14,47,15],[44,16,44,18],[45,16,45,18],[46,16,46,18],[47,16,47,18],[24,14,25,15],[26,14,27,15],[24,2,25,2],[24,16,25,18],[24,19,24,22],[24,3,25,4],[38,19,39,20],[26,16,27,18],[26,1,27,4],[25,19,28,22],[33,1,33,4],[35,16,35,18],[36,16,36,18],[37,16,37,18],[35,14,35,15],[30,14,30,15],[32,14,32,15],[33,14,33,15],[34,14,34,15],[32,16,32,18],[31,19,33,22],[36,14,36,15],[33,16,33,18],[39,21,39,22],[15,1,15,4],[16,1,25,1],[14,1,14,4],[48,18,50,18],[48,13,50,17],[48,10,50,12],[35,20,35,22],[29,14,29,15],[37,14,37,15],[38,14,38,15],[39,14,39,15],[40,14,40,15],[41,14,41,15],[42,14,42,15],[31,14,31,15],[29,16,29,18],[39,16,39,18],[40,16,40,18],[42,19,43,20],[41,16,41,18],[42,16,42,18],[43,16,43,18],[43,14,43,15],[48,1,50,9],[43,2,43,4],[36,1,42,1],[36,2,38,2],[40,3,40,4],[41,3,41,4],[42,3,42,4],[38,3,38,4],[39,3,39,4],[47,2,47,4],[44,2,44,4],[45,2,45,4],[46,2,46,4],[40,2,42,2],[1,1,1,22],[2,1,2,22],[4,1,4,22],[5,1,5,22],[6,13,6,15],[3,19,3,22],[15,14,15,15],[15,16,15,18],[7,15,7,22],[8,15,8,22],[12,16,12,17],[13,22,14,22],[7,13,7,14],[8,13,8,14],[9,13,9,14],[13,6,14,17],[13,19,14,21],[9,15,9,22],[15,19,15,22],[11,1,11,22],[12,5,12,11],[12,1,12,4],[13,1,13,4],[15,5,15,13]]}
[]
[]
[null,"金沢プール使用申請書"]
[null,null,null,null,null,null,null,null,null,null,null,null,null,null,null,null,null,null,null,"年月日",null,null,null,null,null,null,null,null,null,null,null,null,null,null,null,null,{"$f":"P9&\"_\"&TEXT(F13,\"yyyymmdd\")","v":"_　　年　　月　　日（　　曜日）"}]
[null,"（宛先）指定管理者　金沢プール共同事業体"]
[]
[null,null,null,null,null,null,null,null,null,null,null,null,null,"（申請者）"]
[null,null,null,null,null,null,null,null,null,null,null,null,null,"住所"]
[null,null,null,null,null,null,null,null,null,null,null,null,null,"団体名"]
[null,null,null,null,null,null,null,null,null,null,null,null,null,"代表者名　   　　　　　　　　　"]
[]
[null,"金沢プールを使用したいので、次のとおり申請します。",null,null,null,null,null,null,null,null,null,null,null,null,null,null,null,null,null,null,null,null,null,null,"ボタンを使って保存する場合は必要事項を入力後に\nご使用ください"]
[null,"使　用　の　日　時",null,null,null,"　　年　　月　　日（　　曜日）",null,null,null,null,null,null,null,"時",null,"分","～",null,null,"時",null,"分"]
[null,"入　 場 　料　 等",null,null,null,"有",null,null,null,null,null,null,null,null,null,null,null,null,"予定",null,null,null,"人"]
[null,"徴　収　の　有　無",null,null,null,"無",null,null,null,null,null,null,null,null,null,null,null,null,"人員"]
[null,"使　用　区　分",null,null,null,"使用時間",null,null,null,null,null,null,null,null,"時間計",null,"額",null,null,"使用目的"]
[null,"プール","50メートル",null,"コース",null,"時",null,"分","～",null,"時",null,"分",null,null,{"$f":"IF(O17=\"\",\"\",IF(計算シート!$T$59=1,計算シート!R10,\"\"))","v":""},null,null,null,null,null,null,null,null,null,null,null,null,null,null,null,null,null,{"$f":"IF(F17=\"\",\"\",TIME(F17,H17,0))","v":""},{"$f":"IF(K17=\"\",\"\",TIME(K17,M17,0))","v":""}]
[null,null,"プール",null,"コース",null,"時",null,"分","～",null,"時",null,"分",null,null,null,null,null,null,null,null,null,null,null,null,null,null,null,null,null,null,null,null,{"$f":"IF(F18=\"\",\"\",TIME(F18,H18,0))","v":""},{"$f":"IF(K18=\"\",\"\",TIME(K18,M18,0))","v":""}]
[null,null,"25メートル",null,"コース",null,"時",null,"分","～",null,"時",null,"分",null,null,{"$f":"IF(O19=\"\",\"\",IF(計算シート!$T$59=1,計算シート!R13,\"\"))","v":""},null,null,null,null,null,null,null,null,null,null,null,null,null,null,null,null,null,{"$f":"IF(F19=\"\",\"\",TIME(F19,H19,0))","v":""},{"$f":"IF(K19=\"\",\"\",TIME(K19,M19,0))","v":""}]
[null,null,"プール",null,"コース",null,"時",null,"分","～",null,"時",null,"分",null,null,null,null,null,"貸出用品の種類",null,null,null,null,null,null,null,null,null,null,null,null,null,null,"",""]
[null,null,"多目的プール","全面",null,null,"時",null,"分","～",null,"時",null,"分",null,null,{"$f":"IF(O21=\"\",\"\",IF(計算シート!$T$59=1,計算シート!R16,\"\"))","v":""},null,null,null,null,null,null,null,null,null,null,null,null,null,null,null,null,null,"",""]
[null,null,null,null,null,null,"時",null,"分","～",null,"時",null,"分",null,null,null,null,null,null,null,null,null,null,null,null,null,null,null,null,null,null,null,null,"",""]
[null,null,"25メートル",null,"コース",null,"時",null,"分","～",null,"時",null,"分",null,null,{"$f":"IF(O23=\"\",\"\",IF(計算シート!$T$59=1,計算シート!R19,\"\"))","v":""},null,null,null,null,null,null,null,null,null,null,null,null,null,null,null,null,null,"",""]
[null,null,"サブプール",null,"コース",null,"時",null,"分","～",null,"時",null,"分",null,null,null,null,null,null,null,null,null,null,null,null,null,null,null,null,null,null,null,null,"",""]
[null,null,"飛び込みプール","全面",null,null,"時",null,"分","～",null,"時",null,"分",null,null,{"$f":"IF(O25=\"\",\"\",IF(計算シート!$T$59=1,計算シート!R22,\"\"))","v":""},null,null,"特別の設備設置の有無",null,null,null,null,null,null,null,null,null,null,null,null,null,null,"",""]
[null,null,null,null,null,null,"時",null,"分","～",null,"時",null,"分",null,null,null,null,null,null,null,null,null,null,null,null,null,null,null,null,null,null,null,null,"",""]
[null,"飛び込みトレーニング室",null,null,null,null,"時",null,"分","～",null,"時",null,"分",null,null,{"$f":"IF(O27=\"\",\"\",IF(計算シート!$T$59=1,計算シート!R25,\"\"))","v":""},null,null,null,null,null,null,null,null,null,null,null,null,null,null,null,null,null,"",""]
[null,null,null,null,null,null,"時",null,"分","～",null,"時",null,"分",null,null,null,null,null,null,null,null,null,null,null,null,null,null,null,null,null,null,null,null,"",""]
[null,"第１会議室",null,null,null,null,"時",null,"分","～",null,"時",null,"分",null,null,{"$f":"IF(O29=\"\",\"\",IF(計算シート!$T$59=1,計算シート!R27,\"\"))","v":""},null,null,null,null,null,null,null,null,null,null,null,null,null,null,null,null,null,"",""]
[null,"第２会議室",null,null,null,null,"時",null,"分","～",null,"時",null,"分",null,null,{"$f":"IF(O30=\"\",\"\",IF(計算シート!$T$59=1,計算シート!R29,\"\"))","v":""},null,null,"　  有 　無",null,null,null,null,null,null,null,null,null,null,null,null,null,null,"",""]
[null,"応接室",null,null,null,null,"時",null,"分","～",null,"時",null,"分",null,null,{"$f":"IF(O31=\"\",\"\",IF(計算シート!$T$59=1,計算シート!R31,\"\"))","v":""},null,null,"主催者（申請者と異なる場合）",null,null,null,null,null,null,null,null,null,null,null,null,null,null,"",""]
[null,"第１役員室",null,null,null,null,"時",null,"分","～",null,"時",null,"分",null,null,{"$f":"IF(O32=\"\",\"\",IF(計算シート!$T$59=1,計算シート!R33,\"\"))","v":""},null,null,null,null,null,null,null,null,null,null,null,null,null,null,null,null,null,"",""]
[null,"第２役員室",null,null,null,null,"時",null,"分","～",null,"時",null,"分",null,null,{"$f":"IF(O33=\"\",\"\",IF(計算シート!$T$59=1,計算シート!R35,\"\"))","v":""},null,null,null,null,null,null,null,null,null,null,null,null,null,null,null,null,null,"",""]
[null,"大型映像装置",null,null,null,null,"時",null,"分","～",null,"時",null,"分",null,null,{"$f":"IF(O34=\"\",\"\",IF(計算シート!$T$59=1,計算シート!R37,\"\"))","v":""},null,null,null,null,null,null,null,null,null,null,null,null,null,null,null,null,null,"",""]
[null,"放送設備",null,null,null,null,"時",null,"分","～",null,"時",null,"分",null,null,{"$f":"IF(O35=\"\",\"\",IF(計算シート!$T$59=1,計算シート!R38,\"\"))","v":""},null,null,"会場使用責任者",null,null,null,null,null,null,null,null,null,null,null,null,null,null,"",""]
[null,"移動式放送設備",null,null,null,null,"時",null,"分","～",null,"時",null,"分",null,null,{"$f":"IF(O36=\"\",\"\",IF(計算シート!$T$59=1,計算シート!R39,\"\"))","v":""},null,null,"住所",null,null,null,null,null,null,null,null,null,null,null,null,null,null,"",""]
[null,"照明設備","50メートルプール、25メートルプール及び多目的プール","2500ルクス",null,null,"時",null,"分","～",null,"時",null,"分",null,null,{"$f":"IF(O37=\"\",\"\",IF(計算シート!$T$59=1,計算シート!R40,\"\"))","v":""},null,null,"氏名",null,null,null,null,null,null,null,null,null,null,null,null,null,null,"",""]
[null,null,null,"1500ルクス",null,null,"時",null,"分","～",null,"時",null,"分",null,null,{"$f":"IF(O38=\"\",\"\",IF(計算シート!$T$59=1,計算シート!R41,\"\"))","v":""},null,null,"連絡先",null,null,null,null,null,null,null,null,null,null,null,null,null,null,"",""]
[null,null,null,"500ルクス",null,null,"時",null,"分","～",null,"時",null,"分",null,null,{"$f":"IF(O39=\"\",\"\",IF(計算シート!$T$59=1,計算シート!R42,\"\"))","v":""},null,null,"※許可\n年月日",null,{"$f":"IF(使用許可書!$S$5=\"\",\"年\",使用許可書!$Q$6)","v":"年"},null,null,null,null,null,null,null,null,null,null,null,null,"",""]
[null,null,"25メートル\nサブプール","500ルクス",null,null,"時",null,"分","～",null,"時",null,"分",null,null,{"$f":"IF(O40=\"\",\"\",IF(計算シート!$T$59=1,計算シート!R43,\"\"))","v":""},null,null,null,null,{"$f":"IF(使用許可書!S5=\"\",\"月　　　日\",使用許可書!$Q$6)","v":"月　　　日"},null,null,null,null,null,null,null,null,null,null,null,null,"",""]
[null,null,"飛び込みプール","2500ルクス",null,null,"時",null,"分","～",null,"時",null,"分",null,null,{"$f":"IF(O41=\"\",\"\",IF(計算シート!$T$59=1,計算シート!R44,\"\"))","v":""},null,null,"※許可\n番号",null,{"$f":"IF(使用許可書!S5=\"\",\"第　       　　　号\",使用許可書!S5)","v":"第　       　　　号"},null,null,null,null,null,null,null,null,null,null,null,null,"",""]
[null,null,null,"1500ルクス",null,null,"時",null,"分","～",null,"時",null,"分",null,null,{"$f":"IF(O42=\"\",\"\",IF(計算シート!$T$59=1,計算シート!R45,\"\"))","v":""},null,null,null,null,null,null,null,null,null,null,null,null,null,null,null,null,null,"",""]
[null,null,null,"500ルクス",null,null,"時",null,"分","～",null,"時",null,"分",null,null,{"$f":"IF(O43=\"\",\"\",IF(計算シート!$T$59=1,計算シート!R46,\"\"))","v":""},null,null,"支払年\n月日",null,"　　年",null,null,null,null,null,null,null,null,null,null,null,null,"",""]
[null,"冷暖房","第１会議室",null,null,null,"時",null,"分","～",null,"時",null,"分",null,null,{"$f":"IF(O44=\"\",\"\",IF(計算シート!$T$59=1,計算シート!R48,\"\"))","v":""},null,null,null,null,"月　　日",null,null,null,null,null,null,null,null,null,null,null,null,"",""]
[null,null,"第２会議室",null,null,null,"時",null,"分","～",null,"時",null,"分",null,null,{"$f":"IF(O45=\"\",\"\",IF(計算シート!$T$59=1,計算シート!R50,\"\"))","v":""},null,null,"受付印",null,null,null,null,null,null,null,null,null,null,null,null,null,null,"",""]
[null,null,"応接室",null,null,null,"時",null,"分","～",null,"時",null,"分",null,null,{"$f":"IF(O46=\"\",\"\",IF(計算シート!$T$59=1,計算シート!R52,\"\"))","v":""},null,null,null,null,null,null,null,null,null,null,null,null,null,null,null,null,null,"",""]
[null,null,"第１役員室",null,null,null,"時",null,"分","～",null,"時",null,"分",null,null,{"$f":"IF(O47=\"\",\"\",IF(計算シート!$T$59=1,計算シート!R54,\"\"))","v":""},null,null,null,null,null,null,null,null,null,null,null,null,null,null,null,null,null,"",""]
[null,null,"第２役員室",null,null,null,"時",null,"分","～",null,"時",null,"分",null,null,{"$f":"IF(O48=\"\",\"\",IF(計算シート!$T$59=1,計算シート!R56,\"\"))","v":""},null,null,null,null,null,null,null,null,null,null,null,null,null,null,null,null,null,"",""]
[null,"利　用　料　金",null,null,null,null,null,null,null,null,{"$f":"IF(計算シート!O7=\"\",\"\",IF(計算シート!O7=1,\"\",IF(計算シート!O7=1/2,\"半額減免\",IF(計算シート!O7=0,\"全額減免\",\"\"))))","v":""},null,null,{"$f":"IF(計算シート!$T$59=1,計算シート!M59,\"\")","v":""},null,null,null,null,"円","取扱者印"]
[]
[]
[null,"（注）　太枠内を記入してください。"]

{"sheet":"使用許可書","index":2,"n_rows":53,"n_cols":31,"rows_kept":53,"cut":false,"hidden":true,"merged":[[34,30,34,31],[7,11,7,13],[12,10,12,18],[8,14,8,21],[9,14,9,21],[18,6,18,15],[18,17,18,21],[8,11,8,13],[9,11,9,13],[15,3,15,9],[18,2,18,5],[16,2,16,21],[17,2,17,5],[17,6,17,12],[29,17,32,21],[31,2,32,5],[47,4,47,5],[47,15,47,16],[48,2,52,2],[48,3,48,5],[48,15,48,16],[49,3,49,5],[49,15,49,16],[50,3,50,5],[50,15,50,16],[51,3,51,5],[51,15,51,16],[52,3,52,5],[52,15,52,16],[40,2,40,5],[40,15,40,16],[44,4,44,5],[44,15,44,16],[46,15,46,16],[41,3,43,3],[41,4,41,5],[41,15,41,16],[46,4,46,5],[43,4,43,5],[43,15,43,16],[35,2,35,5],[35,15,35,16],[36,2,36,5],[36,15,36,16],[45,3,47,3],[45,4,45,5],[45,15,45,16],[37,2,37,5],[37,15,37,16],[42,4,42,5],[42,15,42,16],[38,2,38,5],[38,15,38,16],[39,2,39,5],[39,15,39,16],[41,2,47,2],[33,2,33,5],[33,15,33,16],[33,17,33,21],[34,2,34,5],[34,15,34,16],[34,17,34,21],[35,17,35,21],[36,17,36,21],[20,15,20,16],[28,17,28,21],[24,17,27,21],[31,15,32,16],[21,2,30,2],[21,15,22,16],[23,15,24,16],[27,15,28,16],[29,3,30,3],[29,4,30,5],[29,15,30,16],[1,2,1,21],[2,2,2,21],[25,3,26,3],[25,4,26,5],[25,15,26,16],[5,16,5,20],[4,15,4,16],[4,18,4,19],[19,2,19,5],[19,6,19,16],[6,11,6,13],[23,17,23,21],[19,17,22,21],[20,2,20,5],[20,6,20,14],[7,14,7,21]]}
[]
[]
[null,null,"金沢プール使用許可書"]
[]
[null,null,null,null,null,null,null,null,null,null,null,null,null,null,null,"許可番号",null,"第",null,null,"号"]
[null,null,null,null,null,null,null,null,null,null,null,null,null,null,null,null,{"$f":"使用申請書!T4","v":"年月日"}]
[null,null,null,null,null,null,null,null,null,null,null,"（申請者）"]
[null,null,null,null,null,null,null,null,null,null,null,"住所",null,null,{"$f":"IF(使用申請書!P8=\"\",\"\",使用申請書!P8)","v":""}]
[null,null,null,null,null,null,null,null,null,null,null,"団体名",null,null,{"$f":"IF(使用申請書!P9=\"\",\"\",使用申請書!P9)","v":""}]
[null,null,null,null,null,null,null,null,null,null,null,"代表者名　   　　　　　　　　　",null,null,{"$f":"IF(使用申請書!P10=\"\",\"\",使用申請書!P10)","v":""}]
[]
[]
[null,null,null,null,null,null,null,null,null,null,"　　指定管理者　金沢プール共同事業体",null,null,null,null,null,null,null,null,"㊞"]
[]
[]
[null,null,null,{"$f":"使用申請書!T4","v":"年月日"},null,null,null,null,null,null,"付けで申請のあった金沢プールの使用について次のとお"]
[null,null,"り許可します。"]
[null,null,"使　用　の　日　時",null,null,null,{"$f":"使用申請書!F13","v":"　　年　　月　　日（　　曜日）"},null,null,null,null,null,null,{"$f":"IF(使用申請書!M13=\"\",\"\",使用申請書!M13)","v":""},"時",{"$f":"IF(使用申請書!O13=\"\",\"\",使用申請書!O13)","v":""},"分","～",{"$f":"IF(使用申請書!S13=\"\",\"\",使用申請書!S13)","v":""},"時",{"$f":"IF(使用申請書!U13=\"\",\"\",使用申請書!U13)","v":""},"分"]
[null,null,"利用料金",null,null,null,{"$f":"計算シート!M59","v":0},null,null,null,null,null,null,null,null,null,"円","使用目的"]
[null,null,"減免",null,null,null,{"$f":"IF(計算シート!O7=\"\",\"\",IF(計算シート!O7=1,\"通常\",IF(計算シート!O7=1/2,\"半額\",IF(計算シート!O7=0,\"全額\"))))","v":""},null,null,null,null,null,null,null,null,null,null,{"$f":"IF(使用申請書!T17=\"\",\"\",使用申請書!T17)","v":""}]
[null,null,"使　用　区　分",null,null,null,"使用時間",null,null,null,null,null,null,null,null,"時間計"]
[null,null,"プール","50メートル",{"$f":"IF(使用申請書!D17=\"\",\"\",使用申請書!D17)","v":""},"コース",{"$f":"IF(使用申請書!F17=\"\",\"\",使用申請書!F17)","v":""},"時",{"$f":"IF(使用申請書!H17=\"\",\"\",使用申請書!H17)","v":""},"分","～",{"$f":"IF(使用申請書!K17=\"\",\"\",使用申請書!K17)","v":""},"時",{"$f":"IF(使用申請書!M17=\"\",\"\",使用申請書!M17)","v":""},"分",{"$f":"IF(使用申請書!O17=\"\",\"\",ROUNDUP(使用申請書!O17,))","v":""}]
[null,null,null,"プール",{"$f":"IF(使用申請書!D18=\"\",\"\",使用申請書!D18)","v":""},"コース",{"$f":"IF(使用申請書!F18=\"\",\"\",使用申請書!F18)","v":""},"時",{"$f":"IF(使用申請書!H18=\"\",\"\",使用申請書!H18)","v":""},"分","～",{"$f":"IF(使用申請書!K18=\"\",\"\",使用申請書!K18)","v":""},"時",{"$f":"IF(使用申請書!M18=\"\",\"\",使用申請書!M18)","v":""},"分"]
[null,null,null,"25メートル",{"$f":"IF(使用申請書!D19=\"\",\"\",使用申請書!D19)","v":""},"コース",{"$f":"IF(使用申請書!F19=\"\",\"\",使用申請書!F19)","v":""},"時",{"$f":"IF(使用申請書!H19=\"\",\"\",使用申請書!H19)","v":""},"分","～",{"$f":"IF(使用申請書!K19=\"\",\"\",使用申請書!K19)","v":""},"時",{"$f":"IF(使用申請書!M19=\"\",\"\",使用申請書!M19)","v":""},"分",{"$f":"IF(使用申請書!O19=\"\",\"\",ROUNDUP(使用申請書!O19,))","v":""},null,"貸出用品の種類"]
[null,null,null,"プール",{"$f":"IF(使用申請書!D20=\"\",\"\",使用申請書!D20)","v":""},"コース",{"$f":"IF(使用申請書!F20=\"\",\"\",使用申請書!F20)","v":""},"時",{"$f":"IF(使用申請書!H20=\"\",\"\",使用申請書!H20)","v":""},"分","～",{"$f":"IF(使用申請書!K20=\"\",\"\",使用申請書!K20)","v":""},"時",{"$f":"IF(使用申請書!M20=\"\",\"\",使用申請書!M20)","v":""},"分",null,null,{"$f":"IF(使用申請書!T21=\"\",\"\",使用申請書!T21)","v":""}]
[null,null,null,"多目的プール","全面",null,{"$f":"IF(使用申請書!F21=\"\",\"\",使用申請書!F21)","v":""},"時",{"$f":"IF(使用申請書!H21=\"\",\"\",使用申請書!H21)","v":""},"分","～",{"$f":"IF(使用申請書!K21=\"\",\"\",使用申請書!K21)","v":""},"時",{"$f":"IF(使用申請書!M21=\"\",\"\",使用申請書!M21)","v":""},"分",{"$f":"IF(使用申請書!O21=\"\",\"\",ROUNDUP(使用申請書!O21,))","v":""}]
[null,null,null,null,null,null,{"$f":"IF(使用申請書!F22=\"\",\"\",使用申請書!F22)","v":""},"時",{"$f":"IF(使用申請書!H22=\"\",\"\",使用申請書!H22)","v":""},"分","～",{"$f":"IF(使用申請書!K22=\"\",\"\",使用申請書!K22)","v":""},"時",{"$f":"IF(使用申請書!M22=\"\",\"\",使用申請書!M22)","v":""},"分"]
[null,null,null,"25メートル",{"$f":"IF(使用申請書!D23=\"\",\"\",使用申請書!D23)","v":""},"コース",{"$f":"IF(使用申請書!F23=\"\",\"\",使用申請書!F23)","v":""},"時",{"$f":"IF(使用申請書!H23=\"\",\"\",使用申請書!H23)","v":""},"分","～",{"$f":"IF(使用申請書!K23=\"\",\"\",使用申請書!K23)","v":""},"時",{"$f":"IF(使用申請書!M23=\"\",\"\",使用申請書!M23)","v":""},"分",{"$f":"IF(使用申請書!O23=\"\",\"\",ROUNDUP(使用申請書!O23,))","v":""}]
[null,null,null,"サブプール",{"$f":"IF(使用申請書!D24=\"\",\"\",使用申請書!D24)","v":""},"コース",{"$f":"IF(使用申請書!F24=\"\",\"\",使用申請書!F24)","v":""},"時",{"$f":"IF(使用申請書!H24=\"\",\"\",使用申請書!H24)","v":""},"分","～",{"$f":"IF(使用申請書!K24=\"\",\"\",使用申請書!K24)","v":""},"時",{"$f":"IF(使用申請書!M24=\"\",\"\",使用申請書!M24)","v":""},"分",null,null,"特別の設備設置の有無"]
[null,null,null,"飛び込みプール","全面",null,{"$f":"IF(使用申請書!F25=\"\",\"\",使用申請書!F25)","v":""},"時",{"$f":"IF(使用申請書!H25=\"\",\"\",使用申請書!H25)","v":""},"分","～",{"$f":"IF(使用申請書!K25=\"\",\"\",使用申請書!K25)","v":""},"時",{"$f":"IF(使用申請書!M25=\"\",\"\",使用申請書!M25)","v":""},"分",{"$f":"IF(使用申請書!O25=\"\",\"\",ROUNDUP(使用申請書!O25,))","v":""},null,{"$f":"IF(使用申請書!T26=\"\",\"\",使用申請書!T26)","v":""}]
[null,null,null,null,null,null,{"$f":"IF(使用申請書!F26=\"\",\"\",使用申請書!F26)","v":""},"時",{"$f":"IF(使用申請書!H26=\"\",\"\",使用申請書!H26)","v":""},"分","～",{"$f":"IF(使用申請書!K26=\"\",\"\",使用申請書!K26)","v":""},"時",{"$f":"IF(使用申請書!M26=\"\",\"\",使用申請書!M26)","v":""},"分"]
[null,null,"飛び込みトレーニング室",null,null,null,{"$f":"IF(使用申請書!F27=\"\",\"\",使用申請書!F27)","v":""},"時",{"$f":"IF(使用申請書!H27=\"\",\"\",使用申請書!H27)","v":""},"分","～",{"$f":"IF(使用申請書!K27=\"\",\"\",使用申請書!K27)","v":""},"時",{"$f":"IF(使用申請書!M27=\"\",\"\",使用申請書!M27)","v":""},"分",{"$f":"IF(使用申請書!O27=\"\",\"\",ROUNDUP(使用申請書!O27,))","v":""}]
[null,null,null,null,null,null,{"$f":"IF(使用申請書!F28=\"\",\"\",使用申請書!F28)","v":""},"時",{"$f":"IF(使用申請書!H28=\"\",\"\",使用申請書!H28)","v":""},"分","～",{"$f":"IF(使用申請書!K28=\"\",\"\",使用申請書!K28)","v":""},"時",{"$f":"IF(使用申請書!M28=\"\",\"\",使用申請書!M28)","v":""},"分"]
[null,null,"第１会議室",null,null,null,{"$f":"IF(使用申請書!F29=\"\",\"\",使用申請書!F29)","v":""},"時",{"$f":"IF(使用申請書!H29=\"\",\"\",使用申請書!H29)","v":""},"分","～",{"$f":"IF(使用申請書!K29=\"\",\"\",使用申請書!K29)","v":""},"時",{"$f":"IF(使用申請書!M29=\"\",\"\",使用申請書!M29)","v":""},"分",{"$f":"IF(使用申請書!O29=\"\",\"\",ROUNDUP(使用申請書!O29,0))","v":""},null,"許可の条件"]
[null,null,"第２会議室",null,null,null,{"$f":"IF(使用申請書!F30=\"\",\"\",使用申請書!F30)","v":""},"時",{"$f":"IF(使用申請書!H30=\"\",\"\",使用申請書!H30)","v":""},"分","～",{"$f":"IF(使用申請書!K30=\"\",\"\",使用申請書!K30)","v":""},"時",{"$f":"IF(使用申請書!M30=\"\",\"\",使用申請書!M30)","v":""},"分",{"$f":"IF(使用申請書!O30=\"\",\"\",ROUNDUP(使用申請書!O30,0))","v":""},null,null,null,null,null,null,null,null,"利用料金後納",null,"金沢市体育施設減免要綱第3条（7）による減免",null,null,null,"支払期限入力⇒"]
[null,null,"応接室",null,null,null,{"$f":"IF(使用申請書!F31=\"\",\"\",使用申請書!F31)","v":""},"時",{"$f":"IF(使用申請書!H31=\"\",\"\",使用申請書!H31)","v":""},"分","～",{"$f":"IF(使用申請書!K31=\"\",\"\",使用申請書!K31)","v":""},"時",{"$f":"IF(使用申請書!M31=\"\",\"\",使用申請書!M31)","v":""},"分",{"$f":"IF(使用申請書!O31=\"\",\"\",ROUNDUP(使用申請書!O31,0))","v":""},null,{"$f":"IF(AG35=\"\",\"\",AG35)","v":""}]
[null,null,"第１役員室",null,null,null,{"$f":"IF(使用申請書!F32=\"\",\"\",使用申請書!F32)","v":""},"時",{"$f":"IF(使用申請書!H32=\"\",\"\",使用申請書!H32)","v":""},"分","～",{"$f":"IF(使用申請書!K32=\"\",\"\",使用申請書!K32)","v":""},"時",{"$f":"IF(使用申請書!M32=\"\",\"\",使用申請書!M32)","v":""},"分",{"$f":"IF(使用申請書!O32=\"\",\"\",ROUNDUP(使用申請書!O32,0))","v":""}]
[null,null,"第２役員室",null,null,null,{"$f":"IF(使用申請書!F33=\"\",\"\",使用申請書!F33)","v":""},"時",{"$f":"IF(使用申請書!H33=\"\",\"\",使用申請書!H33)","v":""},"分","～",{"$f":"IF(使用申請書!K33=\"\",\"\",使用申請書!K33)","v":""},"時",{"$f":"IF(使用申請書!M33=\"\",\"\",使用申請書!M33)","v":""},"分",{"$f":"IF(使用申請書!O33=\"\",\"\",ROUNDUP(使用申請書!O33,0))","v":""}]
[null,null,"大型映像装置",null,null,null,{"$f":"IF(使用申請書!F34=\"\",\"\",使用申請書!F34)","v":""},"時",{"$f":"IF(使用申請書!H34=\"\",\"\",使用申請書!H34)","v":""},"分","～",{"$f":"IF(使用申請書!K34=\"\",\"\",使用申請書!K34)","v":""},"時",{"$f":"IF(使用申請書!M34=\"\",\"\",使用申請書!M34)","v":""},"分",{"$f":"IF(使用申請書!O34=\"\",\"\",ROUNDUP(使用申請書!O34,0))","v":""}]
[null,null,"放送設備",null,null,null,{"$f":"IF(使用申請書!F35=\"\",\"\",使用申請書!F35)","v":""},"時",{"$f":"IF(使用申請書!H35=\"\",\"\",使用申請書!H35)","v":""},"分","～",{"$f":"IF(使用申請書!K35=\"\",\"\",使用申請書!K35)","v":""},"時",{"$f":"IF(使用申請書!M35=\"\",\"\",使用申請書!M35)","v":""},"分",{"$f":"IF(使用申請書!O35=\"\",\"\",ROUNDUP(使用申請書!O35,0))","v":""}]
[null,null,"移動式放送設備",null,null,null,{"$f":"IF(使用申請書!F36=\"\",\"\",使用申請書!F36)","v":""},"時",{"$f":"IF(使用申請書!H36=\"\",\"\",使用申請書!H36)","v":""},"分","～",{"$f":"IF(使用申請書!K36=\"\",\"\",使用申請書!K36)","v":""},"時",{"$f":"IF(使用申請書!M36=\"\",\"\",使用申請書!M36)","v":""},"分",{"$f":"IF(使用申請書!O36=\"\",\"\",ROUNDUP(使用申請書!O36,0))","v":""}]
[null,null,"照明設備","50メートルプール、25メートルプール及び多目的プール","2500ルクス",null,{"$f":"IF(使用申請書!F37=\"\",\"\",使用申請書!F37)","v":""},"時",{"$f":"IF(使用申請書!H37=\"\",\"\",使用申請書!H37)","v":""},"分","～",{"$f":"IF(使用申請書!K37=\"\",\"\",使用申請書!K37)","v":""},"時",{"$f":"IF(使用申請書!M37=\"\",\"\",使用申請書!M37)","v":""},"分",{"$f":"IF(使用申請書!O37=\"\",\"\",ROUNDUP(使用申請書!O37,0))","v":""}]
[null,null,null,null,"1500ルクス",null,{"$f":"IF(使用申請書!F38=\"\",\"\",使用申請書!F38)","v":""},"時",{"$f":"IF(使用申請書!H38=\"\",\"\",使用申請書!H38)","v":""},"分","～",{"$f":"IF(使用申請書!K38=\"\",\"\",使用申請書!K38)","v":""},"時",{"$f":"IF(使用申請書!M38=\"\",\"\",使用申請書!M38)","v":""},"分",{"$f":"IF(使用申請書!O38=\"\",\"\",ROUNDUP(使用申請書!O38,0))","v":""}]
[null,null,null,null,"500ルクス",null,{"$f":"IF(使用申請書!F39=\"\",\"\",使用申請書!F39)","v":""},"時",{"$f":"IF(使用申請書!H39=\"\",\"\",使用申請書!H39)","v":""},"分","～",{"$f":"IF(使用申請書!K39=\"\",\"\",使用申請書!K39)","v":""},"時",{"$f":"IF(使用申請書!M39=\"\",\"\",使用申請書!M39)","v":""},"分",{"$f":"IF(使用申請書!O39=\"\",\"\",ROUNDUP(使用申請書!O39,0))","v":""}]
[null,null,null,"25メートル\nサブプール","500ルクス",null,{"$f":"IF(使用申請書!F40=\"\",\"\",使用申請書!F40)","v":""},"時",{"$f":"IF(使用申請書!H40=\"\",\"\",使用申請書!H40)","v":""},"分","～",{"$f":"IF(使用申請書!K40=\"\",\"\",使用申請書!K40)","v":""},"時",{"$f":"IF(使用申請書!M40=\"\",\"\",使用申請書!M40)","v":""},"分",{"$f":"IF(使用申請書!O40=\"\",\"\",ROUNDUP(使用申請書!O40,0))","v":""}]
[null,null,null,"飛び込みプール","2500ルクス",null,{"$f":"IF(使用申請書!F41=\"\",\"\",使用申請書!F41)","v":""},"時",{"$f":"IF(使用申請書!H41=\"\",\"\",使用申請書!H41)","v":""},"分","～",{"$f":"IF(使用申請書!K41=\"\",\"\",使用申請書!K41)","v":""},"時",{"$f":"IF(使用申請書!M41=\"\",\"\",使用申請書!M41)","v":""},"分",{"$f":"IF(使用申請書!O41=\"\",\"\",ROUNDUP(使用申請書!O41,0))","v":""}]
[null,null,null,null,"1500ルクス",null,{"$f":"IF(使用申請書!F42=\"\",\"\",使用申請書!F42)","v":""},"時",{"$f":"IF(使用申請書!H42=\"\",\"\",使用申請書!H42)","v":""},"分","～",{"$f":"IF(使用申請書!K42=\"\",\"\",使用申請書!K42)","v":""},"時",{"$f":"IF(使用申請書!M42=\"\",\"\",使用申請書!M42)","v":""},"分",{"$f":"IF(使用申請書!O42=\"\",\"\",ROUNDUP(使用申請書!O42,0))","v":""}]
[null,null,null,null,"500ルクス",null,{"$f":"IF(使用申請書!F43=\"\",\"\",使用申請書!F43)","v":""},"時",{"$f":"IF(使用申請書!H43=\"\",\"\",使用申請書!H43)","v":""},"分","～",{"$f":"IF(使用申請書!K43=\"\",\"\",使用申請書!K43)","v":""},"時",{"$f":"IF(使用申請書!M43=\"\",\"\",使用申請書!M43)","v":""},"分",{"$f":"IF(使用申請書!O43=\"\",\"\",ROUNDUP(使用申請書!O43,0))","v":""}]
[null,null,"冷暖房","第１会議室",null,null,{"$f":"IF(使用申請書!F44=\"\",\"\",使用申請書!F44)","v":""},"時",{"$f":"IF(使用申請書!H44=\"\",\"\",使用申請書!H44)","v":""},"分","～",{"$f":"IF(使用申請書!K44=\"\",\"\",使用申請書!K44)","v":""},"時",{"$f":"IF(使用申請書!M44=\"\",\"\",使用申請書!M44)","v":""},"分",{"$f":"IF(使用申請書!O44=\"\",\"\",ROUNDUP(使用申請書!O44,0))","v":""}]
[null,null,null,"第２会議室",null,null,{"$f":"IF(使用申請書!F45=\"\",\"\",使用申請書!F45)","v":""},"時",{"$f":"IF(使用申請書!H45=\"\",\"\",使用申請書!H45)","v":""},"分","～",{"$f":"IF(使用申請書!K45=\"\",\"\",使用申請書!K45)","v":""},"時",{"$f":"IF(使用申請書!M45=\"\",\"\",使用申請書!M45)","v":""},"分",{"$f":"IF(使用申請書!O45=\"\",\"\",ROUNDUP(使用申請書!O45,0))","v":""}]
[null,null,null,"応接室",null,null,{"$f":"IF(使用申請書!F46=\"\",\"\",使用申請書!F46)","v":""},"時",{"$f":"IF(使用申請書!H46=\"\",\"\",使用申請書!H46)","v":""},"分","～",{"$f":"IF(使用申請書!K46=\"\",\"\",使用申請書!K46)","v":""},"時",{"$f":"IF(使用申請書!M46=\"\",\"\",使用申請書!M46)","v":""},"分",{"$f":"IF(使用申請書!O46=\"\",\"\",ROUNDUP(使用申請書!O46,0))","v":""}]
[null,null,null,"第１役員室",null,null,{"$f":"IF(使用申請書!F47=\"\",\"\",使用申請書!F47)","v":""},"時",{"$f":"IF(使用申請書!H47=\"\",\"\",使用申請書!H47)","v":""},"分","～",{"$f":"IF(使用申請書!K47=\"\",\"\",使用申請書!K47)","v":""},"時",{"$f":"IF(使用申請書!M47=\"\",\"\",使用申請書!M47)","v":""},"分",{"$f":"IF(使用申請書!O47=\"\",\"\",ROUNDUP(使用申請書!O47,0))","v":""}]
[null,null,null,"第２役員室",null,null,{"$f":"IF(使用申請書!F48=\"\",\"\",使用申請書!F48)","v":""},"時",{"$f":"IF(使用申請書!H48=\"\",\"\",使用申請書!H48)","v":""},"分","～",{"$f":"IF(使用申請書!K48=\"\",\"\",使用申請書!K48)","v":""},"時",{"$f":"IF(使用申請書!M48=\"\",\"\",使用申請書!M48)","v":""},"分",{"$f":"IF(使用申請書!O48=\"\",\"\",ROUNDUP(使用申請書!O48,0))","v":""}]

{"sheet":"計算シート","index":3,"n_rows":59,"n_cols":18,"rows_kept":59,"cut":false,"hidden":true,"merged":[[57,0,57,11],[58,0,58,5],[58,7,58,8],[38,0,38,3],[39,0,41,2],[42,0,42,2],[43,0,45,2],[46,2,47,2],[48,2,49,2],[50,2,51,2],[52,2,53,2],[56,0,56,11],[33,0,34,2],[36,0,36,3],[37,0,37,3],[54,2,55,2],[35,0,35,11],[22,9,34,10],[36,9,55,10],[22,0,24,2],[25,0,26,2],[27,0,28,2],[29,0,30,2],[31,0,32,2],[46,0,55,1],[7,0,21,1],[7,2,9,2],[10,2,12,2],[13,2,15,2],[13,9,15,10],[16,2,18,2],[19,2,21,2],[19,9,21,10],[0,7,0,8],[1,7,1,8],[2,0,2,12],[3,0,3,12],[5,0,6,3],[5,4,6,8],[5,9,6,10],[5,11,6,11],[5,12,6,12],[0,9,0,10],[1,9,1,10]]}
[null,null,null,null,null,null,null,"総括責",null,"副総括責",null,"事務責","担当者"]
[]
[{"$f":"IF(使用申請書!P9=\"\",\"\",使用申請書!P9)","v":""}]
[{"$f":"IF(使用申請書!F13=\"\",\"\",使用申請書!F13)","v":"　　年　　月　　日（　　曜日）"}]
[]
["使用区分",null,null,null,"利用時間",null,null,null,null,"コース数",null,"通常料金\n（単価）","料金計\n（通常）"]
[null,null,null,null,null,null,null,null,null,null,null,null,null,"減免適応",null,null,"09:00:00"]
["プール",null,"50ｍ","時間外",{"$f":"IF(使用申請書!$AI17>=$Q$7,\"\",IF(使用申請書!$AI17<$Q$7,使用申請書!$AI17))","v":""},"～",{"$f":"IF(使用申請書!$AI17>=$Q$7,\"\",IF(使用申請書!$AJ17<=$Q$7,使用申請書!$AJ17,IF(使用申請書!$AI17<=$Q$7,$Q$7)))","v":""},{"$f":"IF(E8=\"\",0,(G8-E8)*24)","v":0},"h",{"$f":"IF(E8=\"\",\"\",使用申請書!D17)","v":""},"コース",{"$f":"IF($J8=\"\",\"\",IF($J8>=8,$N8,$O8))","v":""},{"$f":"IF(L8=\"\",\"\",IF(J8>=8,L8*H8,H8*J8*L8))","v":""},{"$f":"17600*1.5","v":26400},{"$f":"2200*1.5","v":3300}]
[null,null,null,"時間内",{"$f":"IF(使用申請書!$AI17=\"\",\"\",IF(使用申請書!$AI17>=$Q$7,使用申請書!$AI17,IF(使用申請書!$AJ17<=$Q$7,\"\",IF(使用申請書!$AJ17>=$Q$7,$Q$7,使用申請書!$AI17))))","v":""},"～",{"$f":"IF(使用申請書!$AJ17<=$Q$7,\"\",IF(使用申請書!$AI17>=$Q$7,使用申請書!$AJ17,使用申請書!$AJ17))","v":""},{"$f":"IF(E9=\"\",0,(G9-E9)*24)","v":0},"h",{"$f":"IF(E9=\"\",\"\",使用申請書!D17)","v":""},"コース","","",17600,2200]
[null,null,null,"時間内",{"$f":"IF(使用申請書!$AI18=\"\",\"\",使用申請書!$AI18)","v":""},"～",{"$f":"IF(使用申請書!$AJ18=\"\",\"\",使用申請書!$AJ18)","v":""},0,"h",{"$f":"IF(E10=\"\",\"\",使用申請書!D18)","v":""},"コース","","",17600,2200,null,null,{"$f":"SUM(M8:M10)","v":0}]
[null,null,"25ｍ","時間外",{"$f":"IF(使用申請書!$AI19>=$Q$7,\"\",IF(使用申請書!$AI19<$Q$7,使用申請書!$AI19))","v":""},"～",{"$f":"IF(使用申請書!$AI19>=$Q$7,\"\",IF(使用申請書!$AJ19<=$Q$7,使用申請書!$AJ19,IF(使用申請書!$AI19<=$Q$7,$Q$7)))","v":""},0,"h",{"$f":"IF(E11=\"\",\"\",使用申請書!D19)","v":""},"コース","","",{"$f":"8800*1.5","v":13200},{"$f":"1100*1.5","v":1650}]
[null,null,null,"時間内",{"$f":"IF(使用申請書!$AI19=\"\",\"\",IF(使用申請書!$AI19>=$Q$7,使用申請書!$AI19,IF(使用申請書!$AJ19<=$Q$7,\"\",IF(使用申請書!$AJ19>=$Q$7,$Q$7,使用申請書!$AI19))))","v":""},"～",{"$f":"IF(使用申請書!$AJ19<=$Q$7,\"\",IF(使用申請書!$AI19>=$Q$7,使用申請書!$AJ19,使用申請書!$AJ19))","v":""},0,"h",{"$f":"IF(E12=\"\",\"\",使用申請書!D19)","v":""},"コース","","",8800,1100]
[null,null,null,"時間内",{"$f":"IF(使用申請書!$AI20=\"\",\"\",使用申請書!$AI20)","v":""},"～",{"$f":"IF(使用申請書!$AJ20=\"\",\"\",使用申請書!$AJ20)","v":""},0,"h",{"$f":"IF(E13=\"\",\"\",使用申請書!D20)","v":""},"コース","","",8800,1100,null,null,{"$f":"SUM(M11:M13)","v":0}]
[null,null,"多目的","時間外",{"$f":"IF(使用申請書!$AI21>=$Q$7,\"\",IF(使用申請書!$AI21<$Q$7,使用申請書!$AI21))","v":""},"～",{"$f":"IF(使用申請書!$AI21>=$Q$7,\"\",IF(使用申請書!$AJ21<=$Q$7,使用申請書!$AJ21,IF(使用申請書!$AI21<=$Q$7,$Q$7)))","v":""},0,"h","全面",null,{"$f":"IF($G14=\"\",\"\",$N14)","v":""},{"$f":"IF(L14=\"\",\"\",H14*L14)","v":""},{"$f":"N15*1.5","v":11550}]
[null,null,null,"時間内",{"$f":"IF(使用申請書!$AI21=\"\",\"\",IF(使用申請書!$AI21>=$Q$7,使用申請書!$AI21,IF(使用申請書!$AJ21<=$Q$7,\"\",IF(使用申請書!$AJ21>=$Q$7,$Q$7,使用申請書!$AI21))))","v":""},"～",{"$f":"IF(使用申請書!$AJ21<=$Q$7,\"\",IF(使用申請書!$AI21>=$Q$7,使用申請書!$AJ21,使用申請書!$AJ21))","v":""},0,"h",null,null,{"$f":"IF($G15=\"\",\"\",$N15)","v":""},{"$f":"IF(L15=\"\",\"\",H15*L15)","v":""},7700]
[null,null,null,"時間内",{"$f":"IF(使用申請書!$AI22=\"\",\"\",使用申請書!$AI22)","v":""},"～",{"$f":"IF(使用申請書!$AJ22=\"\",\"\",使用申請書!$AJ22)","v":""},0,"h",null,null,{"$f":"IF($G16=\"\",\"\",$N16)","v":""},{"$f":"IF(L16=\"\",\"\",H16*L16)","v":""},7700,null,null,null,{"$f":"SUM(M14:M16)","v":0}]
[null,null,"25ｍサブ","時間外",{"$f":"IF(使用申請書!$AI23>=$Q$7,\"\",IF(使用申請書!$AI23<$Q$7,使用申請書!$AI23))","v":""},"～",{"$f":"IF(使用申請書!$AI23>=$Q$7,\"\",IF(使用申請書!$AJ23<=$Q$7,使用申請書!$AJ23,IF(使用申請書!$AI23<=$Q$7,$Q$7)))","v":""},0,"h",{"$f":"IF(E17=\"\",\"\",使用申請書!D23)","v":""},"コース",{"$f":"IF($J17=\"\",\"\",IF($J17>=5,$N17,$O17))","v":""},{"$f":"IF(L17=\"\",\"\",IF(J17>=5,L17*H17,H17*J17*L17))","v":""},{"$f":"N18*1.5","v":8250},{"$f":"O18*1.5","v":1650}]
[null,null,null,"時間内",{"$f":"IF(使用申請書!$AI23=\"\",\"\",IF(使用申請書!$AI23>=$Q$7,使用申請書!$AI23,IF(使用申請書!$AJ23<=$Q$7,\"\",IF(使用申請書!$AJ23>=$Q$7,$Q$7,使用申請書!$AI23))))","v":""},"～",{"$f":"IF(使用申請書!$AJ23<=$Q$7,\"\",IF(使用申請書!$AI23>=$Q$7,使用申請書!$AJ23,使用申請書!$AJ23))","v":""},0,"h",{"$f":"IF(E18=\"\",\"\",使用申請書!D23)","v":""},"コース",{"$f":"IF($J18=\"\",\"\",IF($J18>=5,$N18,$O18))","v":""},{"$f":"IF(L18=\"\",\"\",IF(J18>=5,L18*H18,H18*J18*L18))","v":""},5500,1100]
[null,null,null,"時間内",{"$f":"IF(使用申請書!$AI24=\"\",\"\",使用申請書!$AI24)","v":""},"～",{"$f":"IF(使用申請書!$AJ24=\"\",\"\",使用申請書!$AJ24)","v":""},0,"h",{"$f":"IF(E19=\"\",\"\",使用申請書!D24)","v":""},"コース",{"$f":"IF($J19=\"\",\"\",IF($J19>=5,$N19,$O19))","v":""},{"$f":"IF(L19=\"\",\"\",IF(J19>=5,L19*H19,H19*J19*L19))","v":""},5500,1100,null,null,{"$f":"SUM(M17:M19)","v":0}]
[null,null,"飛込みプール","時間外",{"$f":"IF(使用申請書!$AI25>=$Q$7,\"\",IF(使用申請書!$AI25<$Q$7,使用申請書!$AI25))","v":""},"～",{"$f":"IF(使用申請書!$AI25>=$Q$7,\"\",IF(使用申請書!$AJ25<=$Q$7,使用申請書!$AJ25,IF(使用申請書!$AI25<=$Q$7,$Q$7)))","v":""},0,"h","全面",null,{"$f":"IF($G20=\"\",\"\",$N20)","v":""},{"$f":"IF(L20=\"\",\"\",H20*L20)","v":""},{"$f":"N21*1.5","v":9900}]
[null,null,null,"時間内",{"$f":"IF(使用申請書!$AI25=\"\",\"\",IF(使用申請書!$AI25>=$Q$7,使用申請書!$AI25,IF(使用申請書!$AJ25<=$Q$7,\"\",IF(使用申請書!$AJ25>=$Q$7,$Q$7,使用申請書!$AI25))))","v":""},"～",{"$f":"IF(使用申請書!$AJ25<=$Q$7,\"\",IF(使用申請書!$AI25>=$Q$7,使用申請書!$AJ25,使用申請書!$AJ25))","v":""},0,"h",null,null,{"$f":"IF($G21=\"\",\"\",$N21)","v":""},{"$f":"IF(L21=\"\",\"\",H21*L21)","v":""},6600]
[null,null,null,"時間内",{"$f":"IF(使用申請書!$AI26=\"\",\"\",使用申請書!$AI26)","v":""},"～",{"$f":"IF(使用申請書!$AJ26=\"\",\"\",使用申請書!$AJ26)","v":""},0,"h",null,null,{"$f":"IF($G22=\"\",\"\",$N22)","v":""},{"$f":"IF(L22=\"\",\"\",H22*L22)","v":""},6600,null,null,null,{"$f":"SUM(M20:M22)","v":0}]
["飛込み\nトレーニング室",null,null,"時間外",{"$f":"IF(使用申請書!$AI27>=$Q$7,\"\",IF(使用申請書!$AI27<$Q$7,使用申請書!$AI27))","v":""},"～",{"$f":"IF(使用申請書!$AI27>=$Q$7,\"\",IF(使用申請書!$AJ27<=$Q$7,使用申請書!$AJ27,IF(使用申請書!$AI27<=$Q$7,$Q$7)))","v":""},0,"h",null,null,{"$f":"IF($G23=\"\",\"\",$N23)","v":""},{"$f":"IF(L23=\"\",\"\",H23*L23)","v":""},2640]
[null,null,null,"時間内",{"$f":"IF(使用申請書!$AI27=\"\",\"\",IF(使用申請書!$AI27>=$Q$7,使用申請書!$AI27,IF(使用申請書!$AJ27<=$Q$7,\"\",IF(使用申請書!$AJ27>=$Q$7,$Q$7,使用申請書!$AI27))))","v":""},"～",{"$f":"IF(使用申請書!$AJ27<=$Q$7,\"\",IF(使用申請書!$AI27>=$Q$7,使用申請書!$AJ27,使用申請書!$AJ27))","v":""},0,"h",null,null,"","",1760]
[null,null,null,"時間内",{"$f":"IF(使用申請書!$AI28=\"\",\"\",使用申請書!$AI28)","v":""},"～",{"$f":"IF(使用申請書!$AJ28=\"\",\"\",使用申請書!$AJ28)","v":""},0,"h",null,null,"",{"$f":"IF(L25=\"\",\"\",H25*L25)","v":""},1760,null,null,null,{"$f":"SUM(M23:M25)","v":0}]
["第１会議室",null,null,"時間外",{"$f":"IF(使用申請書!$AI29>=$Q$7,\"\",IF(使用申請書!$AI29<$Q$7,使用申請書!$AI29))","v":""},"～",{"$f":"IF(使用申請書!$AI29>=$Q$7,\"\",IF(使用申請書!$AI29>=$Q$7,使用申請書!$AJ29,IF(使用申請書!$AI29<=$Q$7,$Q$7)))","v":""},0,"h",null,null,"","",825]
[null,null,null,"時間内",{"$f":"IF(使用申請書!$AJ29<=$Q$7,\"\",IF(使用申請書!$AI29<$Q$7,$Q$7,使用申請書!$AI29))","v":""},"～",{"$f":"IF(使用申請書!$AJ29<=$Q$7,\"\",IF(使用申請書!$AI29<=$Q$7,使用申請書!$AJ29,使用申請書!$AJ29))","v":""},0,"h",null,null,"","",550,null,null,null,{"$f":"SUM(M26:M27)","v":0}]
["第２会議室",null,null,"時間外",{"$f":"IF(使用申請書!$AI30>=$Q$7,\"\",IF(使用申請書!$AI30<$Q$7,使用申請書!$AI30))","v":""},"～",{"$f":"IF(使用申請書!$AI30>=$Q$7,\"\",IF(使用申請書!$AI30>=$Q$7,使用申請書!$AJ30,IF(使用申請書!$AI30<=$Q$7,$Q$7)))","v":""},0,"h",null,null,"","",825]
[null,null,null,"時間内",{"$f":"IF(使用申請書!$AJ30<=$Q$7,\"\",IF(使用申請書!$AI30<$Q$7,$Q$7,使用申請書!$AI30))","v":""},"～",{"$f":"IF(使用申請書!$AJ30<=$Q$7,\"\",IF(使用申請書!$AI30<=$Q$7,使用申請書!$AJ30,使用申請書!$AJ30))","v":""},0,"h",null,null,"","",550,null,null,null,{"$f":"SUM(M28:M29)","v":0}]
["応接室",null,null,"時間外",{"$f":"IF(使用申請書!$AI31>=$Q$7,\"\",IF(使用申請書!$AI31<$Q$7,使用申請書!$AI31))","v":""},"～",{"$f":"IF(使用申請書!$AI31>=$Q$7,\"\",IF(使用申請書!$AI31>=$Q$7,使用申請書!$AJ31,IF(使用申請書!$AI31<=$Q$7,$Q$7)))","v":""},0,"h",null,null,"","",1650]
[null,null,null,"時間内",{"$f":"IF(使用申請書!$AJ31<=$Q$7,\"\",IF(使用申請書!$AI31<$Q$7,$Q$7,使用申請書!$AI31))","v":""},"～",{"$f":"IF(使用申請書!$AJ31<=$Q$7,\"\",IF(使用申請書!$AI31<=$Q$7,使用申請書!$AJ31,使用申請書!$AJ31))","v":""},0,"h",null,null,"","",1100,null,null,null,{"$f":"SUM(M30:M31)","v":0}]
["第１役員室",null,null,"時間外",{"$f":"IF(使用申請書!$AI32>=$Q$7,\"\",IF(使用申請書!$AI32<$Q$7,使用申請書!$AI32))","v":""},"～",{"$f":"IF(使用申請書!$AI32>=$Q$7,\"\",IF(使用申請書!$AI32>=$Q$7,使用申請書!$AJ32,IF(使用申請書!$AI32<=$Q$7,$Q$7)))","v":""},0,"h",null,null,"","",825]
[null,null,null,"時間内",{"$f":"IF(使用申請書!$AJ32<=$Q$7,\"\",IF(使用申請書!$AI32<$Q$7,$Q$7,使用申請書!$AI32))","v":""},"～",{"$f":"IF(使用申請書!$AJ32<=$Q$7,\"\",IF(使用申請書!$AI32<=$Q$7,使用申請書!$AJ32,使用申請書!$AJ32))","v":""},0,"h",null,null,"","",550,null,null,null,{"$f":"SUM(M32:M33)","v":0}]
["第２役員室",null,null,"時間外",{"$f":"IF(使用申請書!$AI33>=$Q$7,\"\",IF(使用申請書!$AI33<$Q$7,使用申請書!$AI33))","v":""},"～",{"$f":"IF(使用申請書!$AI33>=$Q$7,\"\",IF(使用申請書!$AI33>=$Q$7,使用申請書!$AJ33,IF(使用申請書!$AI33<=$Q$7,$Q$7)))","v":""},0,"h",null,null,"","",825]
[null,null,null,"時間内",{"$f":"IF(使用申請書!$AJ33<=$Q$7,\"\",IF(使用申請書!$AI33<$Q$7,$Q$7,使用申請書!$AI33))","v":""},"～",{"$f":"IF(使用申請書!$AJ33<=$Q$7,\"\",IF(使用申請書!$AI33<=$Q$7,使用申請書!$AJ33,使用申請書!$AJ33))","v":""},0,"h",null,null,"","",550,null,null,null,{"$f":"SUM(M34:M35)","v":0}]
["専用利用料計",null,null,null,null,null,null,null,null,null,null,null,{"$f":"SUM(M8:M35)","v":0}]
["大型映像装置",null,null,null,{"$f":"IF(使用申請書!$AI34=\"\",\"\",使用申請書!$AI34)","v":""},"～",{"$f":"IF(使用申請書!$AJ34=\"\",\"\",使用申請書!$AJ34)","v":""},{"$f":"IF(E37=\"\",0,(G37-E37)*24)","v":0},"h",null,null,"","",1870,null,null,null,{"$f":"SUM(M37)","v":0}]
["放送設備",null,null,null,{"$f":"IF(使用申請書!$AI35=\"\",\"\",使用申請書!$AI35)","v":""},"～",{"$f":"IF(使用申請書!$AJ35=\"\",\"\",使用申請書!$AJ35)","v":""},0,"h",null,null,"","",660,null,null,null,{"$f":"SUM(M38)","v":0}]
["移動式放送設備",null,null,null,{"$f":"IF(使用申請書!$AI36=\"\",\"\",使用申請書!$AI36)","v":""},"～",{"$f":"IF(使用申請書!$AJ36=\"\",\"\",使用申請書!$AJ36)","v":""},0,"h",null,null,"","",990,null,null,null,0]
["50ｍ・25ｍ\n多目的\n照明",null,null,2500,{"$f":"IF(使用申請書!$AI37=\"\",\"\",使用申請書!$AI37)","v":""},"～",{"$f":"IF(使用申請書!$AJ37=\"\",\"\",使用申請書!$AJ37)","v":""},0,"h",null,null,"","",1230,null,null,null,0]
[null,null,null,1500,{"$f":"IF(使用申請書!$AI38=\"\",\"\",使用申請書!$AI38)","v":""},"～",{"$f":"IF(使用申請書!$AJ38=\"\",\"\",使用申請書!$AJ38)","v":""},0,"h",null,null,"","",850,null,null,null,0]
[null,null,null,500,{"$f":"IF(使用申請書!$AI39=\"\",\"\",使用申請書!$AI39)","v":""},"～",{"$f":"IF(使用申請書!$AJ39=\"\",\"\",使用申請書!$AJ39)","v":""},0,"h",null,null,"","",290,null,null,null,0]
["25ｍサブ",null,null,500,{"$f":"IF(使用申請書!$AI40=\"\",\"\",使用申請書!$AI40)","v":""},"～",{"$f":"IF(使用申請書!$AJ40=\"\",\"\",使用申請書!$AJ40)","v":""},0,"h",null,null,"","",100,null,null,null,0]
["飛込み\n照明",null,null,2500,{"$f":"IF(使用申請書!$AI41=\"\",\"\",使用申請書!$AI41)","v":""},"～",{"$f":"IF(使用申請書!$AJ41=\"\",\"\",使用申請書!$AJ41)","v":""},0,"h",null,null,"","",700,null,null,null,0]
[null,null,null,1500,{"$f":"IF(使用申請書!$AI42=\"\",\"\",使用申請書!$AI42)","v":""},"～",{"$f":"IF(使用申請書!$AJ42=\"\",\"\",使用申請書!$AJ42)","v":""},0,"h",null,null,"","",450,null,null,null,0]
[null,null,null,500,{"$f":"IF(使用申請書!$AI43=\"\",\"\",使用申請書!$AI43)","v":""},"～",{"$f":"IF(使用申請書!$AJ43=\"\",\"\",使用申請書!$AJ43)","v":""},0,"h",null,null,"","",150,null,null,null,0]
["冷暖房",null,"第１会議室","時間外",{"$f":"IF(使用申請書!$AI44>=$Q$7,\"\",IF(使用申請書!$AI44<$Q$7,使用申請書!$AI44))","v":""},"～",{"$f":"IF(使用申請書!$AI44>=$Q$7,\"\",IF(使用申請書!$AI44>=$Q$7,使用申請書!$AJ44,IF(使用申請書!$AI44<=$Q$7,$Q$7)))","v":""},0,"h",null,null,"","",206]
[null,null,null,"時間内",{"$f":"IF(使用申請書!$AJ44<=$Q$7,\"\",IF(使用申請書!$AI44<$Q$7,$Q$7,使用申請書!$AI44))","v":""},"～",{"$f":"IF(使用申請書!$AJ44<=$Q$7,\"\",IF(使用申請書!$AI44<=$Q$7,使用申請書!$AJ44,使用申請書!$AJ44))","v":""},0,"h",null,null,"","",137,null,null,null,{"$f":"SUM(M47:M48)","v":0}]
[null,null,"第２会議室","時間外",{"$f":"IF(使用申請書!$AI45>=$Q$7,\"\",IF(使用申請書!$AI45<$Q$7,使用申請書!$AI45))","v":""},"～",{"$f":"IF(使用申請書!$AI45>=$Q$7,\"\",IF(使用申請書!$AI45>=$Q$7,使用申請書!$AJ45,IF(使用申請書!$AI45<=$Q$7,$Q$7)))","v":""},0,"h",null,null,"","",206]
[null,null,null,"時間内",{"$f":"IF(使用申請書!$AJ45<=$Q$7,\"\",IF(使用申請書!$AI45<$Q$7,$Q$7,使用申請書!$AI45))","v":""},"～",{"$f":"IF(使用申請書!$AJ45<=$Q$7,\"\",IF(使用申請書!$AI45<=$Q$7,使用申請書!$AJ45,使用申請書!$AJ45))","v":""},0,"h",null,null,"","",137,null,null,null,{"$f":"SUM(M49:M50)","v":0}]
[null,null,"応接室","時間外",{"$f":"IF(使用申請書!$AI46>=$Q$7,\"\",IF(使用申請書!$AI46<$Q$7,使用申請書!$AI46))","v":""},"～",{"$f":"IF(使用申請書!$AI46>=$Q$7,\"\",IF(使用申請書!$AI46>=$Q$7,使用申請書!$AJ46,IF(使用申請書!$AI46<=$Q$7,$Q$7)))","v":""},0,"h",null,null,"","",412]
[null,null,null,"時間内",{"$f":"IF(使用申請書!$AJ46<=$Q$7,\"\",IF(使用申請書!$AI46<$Q$7,$Q$7,使用申請書!$AI46))","v":""},"～",{"$f":"IF(使用申請書!$AJ46<=$Q$7,\"\",IF(使用申請書!$AI46<=$Q$7,使用申請書!$AJ46,使用申請書!$AJ46))","v":""},0,"h",null,null,"","",275,null,null,null,{"$f":"SUM(M51:M52)","v":0}]
[null,null,"第１役員室","時間外",{"$f":"IF(使用申請書!$AI47>=$Q$7,\"\",IF(使用申請書!$AI47<$Q$7,使用申請書!$AI47))","v":""},"～",{"$f":"IF(使用申請書!$AI47>=$Q$7,\"\",IF(使用申請書!$AI47>=$Q$7,使用申請書!$AJ47,IF(使用申請書!$AI47<=$Q$7,$Q$7)))","v":""},0,"h",null,null,"","",206]
[null,null,null,"時間内",{"$f":"IF(使用申請書!$AJ47<=$Q$7,\"\",IF(使用申請書!$AI47<$Q$7,$Q$7,使用申請書!$AI47))","v":""},"～",{"$f":"IF(使用申請書!$AJ47<=$Q$7,\"\",IF(使用申請書!$AI47<=$Q$7,使用申請書!$AJ47,使用申請書!$AJ47))","v":""},0,"h",null,null,"","",137,null,null,null,{"$f":"SUM(M53:M54)","v":0}]
[null,null,"第２役員室","時間外",{"$f":"IF(使用申請書!$AI48>=$Q$7,\"\",IF(使用申請書!$AI48<$Q$7,使用申請書!$AI48))","v":""},"～",{"$f":"IF(使用申請書!$AI48>=$Q$7,\"\",IF(使用申請書!$AI48>=$Q$7,使用申請書!$AJ48,IF(使用申請書!$AI48<=$Q$7,$Q$7)))","v":""},0,"h",null,null,"","",206]
[null,null,null,"時間内",{"$f":"IF(使用申請書!$AJ48<=$Q$7,\"\",IF(使用申請書!$AI48<$Q$7,$Q$7,使用申請書!$AI48))","v":""},"～",{"$f":"IF(使用申請書!$AJ48<=$Q$7,\"\",IF(使用申請書!$AI48<=$Q$7,使用申請書!$AJ48,使用申請書!$AJ48))","v":""},0,"h",null,null,"","",137,null,null,null,{"$f":"SUM(M55:M56)","v":0}]
["附属設備利用料計",null,null,null,null,null,null,null,null,null,null,null,{"$f":"SUM(M37:M56)","v":0}]
["専用利用料計（通常）",null,null,null,null,null,null,null,null,null,null,null,{"$f":"ROUNDDOWN(M36+M57,-1)","v":0}]
["決定金額",null,null,null,null,null,"（","減免区分",null,"：",{"$f":"IF(O7=\"\",\"\",IF($O$7=1,\"通常\",IF($O$7=1/2,\"半額\",IF($O$7=0,\"全額減免\",\"\"))))","v":""},"）",{"$f":"ROUNDDOWN(M58*O7,-1)","v":0}]

{"sheet":"受付印","index":4,"n_rows":4,"n_cols":6,"rows_kept":4,"cut":false,"hidden":true,"merged":[[4,5,5,5]]}
[]
[null,null,null,null,null,"受 付"]
[null,null,null,null,null,{"$f":"使用申請書!T4","v":"年月日"}]
[null,null,null,null,null,"指定管理者"]